BEGIN:VCALENDAR
VERSION:2.0
PRODID:-//Patricia Wesley - ECPv6.15.20//NONSGML v1.0//EN
CALSCALE:GREGORIAN
METHOD:PUBLISH
X-WR-CALNAME:Patricia Wesley
X-ORIGINAL-URL:https://patriciajabbehwesley.com
X-WR-CALDESC:Events for Patricia Wesley
REFRESH-INTERVAL;VALUE=DURATION:PT1H
X-Robots-Tag:noindex
X-PUBLISHED-TTL:PT1H
BEGIN:VTIMEZONE
TZID:UTC
BEGIN:STANDARD
TZOFFSETFROM:+0000
TZOFFSETTO:+0000
TZNAME:UTC
DTSTART:20220101T000000
END:STANDARD
END:VTIMEZONE
BEGIN:VEVENT
DTSTART;TZID=UTC:20230319T080000
DTEND;TZID=UTC:20230322T230000
DTSTAMP:20260423T144316
CREATED:20181225T041040Z
LAST-MODIFIED:20230104T171044Z
UID:788-1679212800-1679526000@patriciajabbehwesley.com
SUMMARY:Saginaw State University
DESCRIPTION:Saginaw State University\, Michigan- March 19-22\, to be honored and to Receive the Theodore Roethke Memorial Poetry Award of $10\,000. In Saginaw\, MI. \nI will visit high schools\, read my poetry\, conduct poetry workshops with students\, and speak to the University and the Award Committee and the University community during the three day visit \nWidget only works on single event page.
URL:https://patriciajabbehwesley.com/event/saginaw-state-university/
LOCATION:Saginaw State University\, MI
ATTACH;FMTTYPE=image/jpeg:https://patriciajabbehwesley.com/wp-content/uploads/2018/12/07.jpg
END:VEVENT
BEGIN:VEVENT
DTSTART;TZID=UTC:20230311T080000
DTEND;TZID=UTC:20230313T203000
DTSTAMP:20260423T144316
CREATED:20230122T182500Z
LAST-MODIFIED:20230122T182814Z
UID:3921-1678521600-1678739400@patriciajabbehwesley.com
SUMMARY:Poetry Writing Workshops with Patricia Jabbeh Wesley and Martín Espada
DESCRIPTION:Award-Winning Poets Martín Espada and Patricia Jabbeh Wesley offer poetry writing workshops: “Poetry Like Bread” and “Finding Healing.”
URL:https://patriciajabbehwesley.com/event/poetry-writing-workshops-with-patricia-jabbeh-wesley-and-martin-espada/
ATTACH;FMTTYPE=image/jpeg:https://patriciajabbehwesley.com/wp-content/uploads/2023/01/36546656.jpg
END:VEVENT
BEGIN:VEVENT
DTSTART;TZID=UTC:20230311T060000
DTEND;TZID=UTC:20240313T230000
DTSTAMP:20260423T144316
CREATED:20181218T023057Z
LAST-MODIFIED:20230104T165239Z
UID:767-1678514400-1710370800@patriciajabbehwesley.com
SUMMARY:Sarasota Poetrylife Festival
DESCRIPTION:Readings\, Writers Workshops\, One-on-One Consultations with me by Workshop Participants\, hosted by the Sarasota Poetrylife Festival 2023 \nWidget only works on single event page.
URL:https://patriciajabbehwesley.com/event/sarasota-poetrylife-festival/
LOCATION:Sarasota\, Floriday\, FL
ATTACH;FMTTYPE=image/jpeg:https://patriciajabbehwesley.com/wp-content/uploads/2018/12/05.jpg
END:VEVENT
END:VCALENDAR